BEGIN:VCALENDAR
VERSION:2.0
PRODID:-//Shelbys Sweet Things - ECPv6.15.20//NONSGML v1.0//EN
CALSCALE:GREGORIAN
METHOD:PUBLISH
X-WR-CALNAME:Shelbys Sweet Things
X-ORIGINAL-URL:https://shelbyssweetthings.com
X-WR-CALDESC:Events for Shelbys Sweet Things
REFRESH-INTERVAL;VALUE=DURATION:PT1H
X-Robots-Tag:noindex
X-PUBLISHED-TTL:PT1H
BEGIN:VTIMEZONE
TZID:America/Halifax
BEGIN:DAYLIGHT
TZOFFSETFROM:-0400
TZOFFSETTO:-0300
TZNAME:ADT
DTSTART:20240310T060000
END:DAYLIGHT
BEGIN:STANDARD
TZOFFSETFROM:-0300
TZOFFSETTO:-0400
TZNAME:AST
DTSTART:20241103T050000
END:STANDARD
BEGIN:DAYLIGHT
TZOFFSETFROM:-0400
TZOFFSETTO:-0300
TZNAME:ADT
DTSTART:20250309T060000
END:DAYLIGHT
BEGIN:STANDARD
TZOFFSETFROM:-0300
TZOFFSETTO:-0400
TZNAME:AST
DTSTART:20251102T050000
END:STANDARD
BEGIN:DAYLIGHT
TZOFFSETFROM:-0400
TZOFFSETTO:-0300
TZNAME:ADT
DTSTART:20260308T060000
END:DAYLIGHT
BEGIN:STANDARD
TZOFFSETFROM:-0300
TZOFFSETTO:-0400
TZNAME:AST
DTSTART:20261101T050000
END:STANDARD
END:VTIMEZONE
BEGIN:VEVENT
DTSTART;TZID=America/Halifax:20250913T100000
DTEND;TZID=America/Halifax:20250913T150000
DTSTAMP:20260423T232937
CREATED:20250829T133959Z
LAST-MODIFIED:20250829T133959Z
UID:6438-1757757600-1757775600@shelbyssweetthings.com
SUMMARY:Branch Creek Taphouse
DESCRIPTION:Come Visit Our Food Truck!\nWhat we’ll have: \nChicken wings\, BBQ\, Pulled pork\, baked Mac/cheese\, FF\, collard greens\, potato salad\, cookies\, cakes\, brownies. \n 
URL:https://shelbyssweetthings.com/events/branch-creek-taphouse/
LOCATION:Branch Creek Taphouse\, 30 W. Chestnut Street\, Souderton\, PA\, 18964
END:VEVENT
BEGIN:VEVENT
DTSTART;TZID=America/Halifax:20250913T163000
DTEND;TZID=America/Halifax:20250913T193000
DTSTAMP:20260423T232937
CREATED:20250910T153601Z
LAST-MODIFIED:20250910T153601Z
UID:6448-1757781000-1757791800@shelbyssweetthings.com
SUMMARY:Food Truck Night in Quakertown
DESCRIPTION:
URL:https://shelbyssweetthings.com/events/food-truck-night-in-quakertown/
LOCATION:Quakertown\, Broad Street\, Quakertown\, PA\, 18951
END:VEVENT
END:VCALENDAR