BEGIN:VCALENDAR
VERSION:2.0
PRODID:-//Shelbys Sweet Things - ECPv6.15.20//NONSGML v1.0//EN
CALSCALE:GREGORIAN
METHOD:PUBLISH
X-WR-CALNAME:Shelbys Sweet Things
X-ORIGINAL-URL:https://shelbyssweetthings.com
X-WR-CALDESC:Events for Shelbys Sweet Things
REFRESH-INTERVAL;VALUE=DURATION:PT1H
X-Robots-Tag:noindex
X-PUBLISHED-TTL:PT1H
BEGIN:VTIMEZONE
TZID:America/Halifax
BEGIN:DAYLIGHT
TZOFFSETFROM:-0400
TZOFFSETTO:-0300
TZNAME:ADT
DTSTART:20250309T060000
END:DAYLIGHT
BEGIN:STANDARD
TZOFFSETFROM:-0300
TZOFFSETTO:-0400
TZNAME:AST
DTSTART:20251102T050000
END:STANDARD
BEGIN:DAYLIGHT
TZOFFSETFROM:-0400
TZOFFSETTO:-0300
TZNAME:ADT
DTSTART:20260308T060000
END:DAYLIGHT
BEGIN:STANDARD
TZOFFSETFROM:-0300
TZOFFSETTO:-0400
TZNAME:AST
DTSTART:20261101T050000
END:STANDARD
BEGIN:DAYLIGHT
TZOFFSETFROM:-0400
TZOFFSETTO:-0300
TZNAME:ADT
DTSTART:20270314T060000
END:DAYLIGHT
BEGIN:STANDARD
TZOFFSETFROM:-0300
TZOFFSETTO:-0400
TZNAME:AST
DTSTART:20271107T050000
END:STANDARD
END:VTIMEZONE
BEGIN:VEVENT
DTSTART;TZID=America/Halifax:20260418T100000
DTEND;TZID=America/Halifax:20260418T160000
DTSTAMP:20260423T122535
CREATED:20260415T192803Z
LAST-MODIFIED:20260415T192803Z
UID:6493-1776506400-1776528000@shelbyssweetthings.com
SUMMARY:Food Truck Event!
DESCRIPTION:37th International Spring Festival\nat North Penn High School\nMore info HERE
URL:https://shelbyssweetthings.com/events/food-truck-event-4/
LOCATION:North Penn High School\, Lansdale\, PA
END:VEVENT
END:VCALENDAR