BEGIN:VCALENDAR
VERSION:2.0
PRODID:-//Shelbys Sweet Things - ECPv6.15.20//NONSGML v1.0//EN
CALSCALE:GREGORIAN
METHOD:PUBLISH
X-WR-CALNAME:Shelbys Sweet Things
X-ORIGINAL-URL:https://shelbyssweetthings.com
X-WR-CALDESC:Events for Shelbys Sweet Things
REFRESH-INTERVAL;VALUE=DURATION:PT1H
X-Robots-Tag:noindex
X-PUBLISHED-TTL:PT1H
BEGIN:VTIMEZONE
TZID:America/Halifax
BEGIN:DAYLIGHT
TZOFFSETFROM:-0400
TZOFFSETTO:-0300
TZNAME:ADT
DTSTART:20220313T060000
END:DAYLIGHT
BEGIN:STANDARD
TZOFFSETFROM:-0300
TZOFFSETTO:-0400
TZNAME:AST
DTSTART:20221106T050000
END:STANDARD
BEGIN:DAYLIGHT
TZOFFSETFROM:-0400
TZOFFSETTO:-0300
TZNAME:ADT
DTSTART:20230312T060000
END:DAYLIGHT
BEGIN:STANDARD
TZOFFSETFROM:-0300
TZOFFSETTO:-0400
TZNAME:AST
DTSTART:20231105T050000
END:STANDARD
BEGIN:DAYLIGHT
TZOFFSETFROM:-0400
TZOFFSETTO:-0300
TZNAME:ADT
DTSTART:20240310T060000
END:DAYLIGHT
BEGIN:STANDARD
TZOFFSETFROM:-0300
TZOFFSETTO:-0400
TZNAME:AST
DTSTART:20241103T050000
END:STANDARD
BEGIN:DAYLIGHT
TZOFFSETFROM:-0400
TZOFFSETTO:-0300
TZNAME:ADT
DTSTART:20250309T060000
END:DAYLIGHT
BEGIN:STANDARD
TZOFFSETFROM:-0300
TZOFFSETTO:-0400
TZNAME:AST
DTSTART:20251102T050000
END:STANDARD
BEGIN:DAYLIGHT
TZOFFSETFROM:-0400
TZOFFSETTO:-0300
TZNAME:ADT
DTSTART:20260308T060000
END:DAYLIGHT
BEGIN:STANDARD
TZOFFSETFROM:-0300
TZOFFSETTO:-0400
TZNAME:AST
DTSTART:20261101T050000
END:STANDARD
BEGIN:DAYLIGHT
TZOFFSETFROM:-0400
TZOFFSETTO:-0300
TZNAME:ADT
DTSTART:20270314T060000
END:DAYLIGHT
BEGIN:STANDARD
TZOFFSETFROM:-0300
TZOFFSETTO:-0400
TZNAME:AST
DTSTART:20271107T050000
END:STANDARD
END:VTIMEZONE
BEGIN:VEVENT
DTSTART;TZID=America/Halifax:20260418T100000
DTEND;TZID=America/Halifax:20260418T160000
DTSTAMP:20260423T170115
CREATED:20260415T192803Z
LAST-MODIFIED:20260415T192803Z
UID:6493-1776506400-1776528000@shelbyssweetthings.com
SUMMARY:Food Truck Event!
DESCRIPTION:37th International Spring Festival\nat North Penn High School\nMore info HERE
URL:https://shelbyssweetthings.com/events/food-truck-event-4/
LOCATION:North Penn High School\, Lansdale\, PA
END:VEVENT
BEGIN:VEVENT
DTSTART;TZID=America/Halifax:20260404T110000
DTEND;TZID=America/Halifax:20260404T170000
DTSTAMP:20260423T170115
CREATED:20260402T234831Z
LAST-MODIFIED:20260402T234831Z
UID:6478-1775300400-1775322000@shelbyssweetthings.com
SUMMARY:Food Truck!
DESCRIPTION:Our food truck will be at Wind Creek Bethlehem Saturday\, April 4!
URL:https://shelbyssweetthings.com/events/food-truck-2/
LOCATION:77 Wind Creek Blvd.\, Bethlehem\, PA 18015\, 77 Wind Creek Blvd\, Bethlehem\, PA\, 18015
END:VEVENT
BEGIN:VEVENT
DTSTART;TZID=America/Halifax:20251207T100000
DTEND;TZID=America/Halifax:20251207T140000
DTSTAMP:20260423T170115
CREATED:20250829T133636Z
LAST-MODIFIED:20250829T133636Z
UID:6436-1765101600-1765116000@shelbyssweetthings.com
SUMMARY:Harleysville Market
DESCRIPTION:Come Visit Our Food Truck!\nWhat we’ll have: \nChicken wings\, BBQ\, Pulled pork\, baked Mac/cheese\, FF\, collard greens\, potato salad\, cookies\, cakes\, brownies. \nAbout the Event\nHarleysville Market\nJoin us at the Harleysville Market on Sunday\, September 7th from 10AM – 1PM at the Harleysville Community Center (435 Park Ave\, Harleysville)! \n“Come shop local and discover an amazing variety of small businesses\, makers\, farmers\, and food vendors. You’ll find:\n🌿 Fresh produce & plants\n🍯 Local honey & baked goods\n🛍️ Handmade crafts & gifts\n🎶 Live music & community vibes\n🍴 Food trucks & drinks \nBring your family\, friends\, and neighbors for a morning full of shopping\, great eats\, and even better vibes.”
URL:https://shelbyssweetthings.com/events/harleysville-market-3/
LOCATION:Harleysville Community Pool\, 435 Park Avenue\, Harleysville\, PA\, 19438
END:VEVENT
BEGIN:VEVENT
DTSTART;TZID=America/Halifax:20251018T100000
DTEND;TZID=America/Halifax:20251018T160000
DTSTAMP:20260423T170115
CREATED:20250829T134308Z
LAST-MODIFIED:20250829T134308Z
UID:6441-1760781600-1760803200@shelbyssweetthings.com
SUMMARY:Autumn Alive
DESCRIPTION:Come Visit Our Food Truck!\nWhat we’ll have: \nChicken wings\, BBQ\, Pulled pork\, baked Mac/cheese\, FF\, collard greens\, potato salad\, cookies\, cakes\, brownies. \n  \nAbout the Event\n“The Autumn Alive! Fall Festival focuses on fun and our furry friends. The Broad Street Pet Parade is always a family favorite. Along with crafters and businesses\, pet rescue organizations line Broad Street from 4th Street to Hellertown Avenue and down Branch Street. There are plenty of family fun to enjoy children’s activities\, live music\, cupcake contests\, Food Court\, Authors Corner\, and guests 21 years and older enjoy samples of beer\, spirits\, and wine in the Beer Garden on East Broad Street. People dress up their pet in this Halloween best for our annual Pet Parade!”
URL:https://shelbyssweetthings.com/events/autumn-alive/
LOCATION:Broad Street\, Quakertown\, Broad Street\, Quakertown\, PA\, 18951
END:VEVENT
BEGIN:VEVENT
DTSTART;TZID=America/Halifax:20251005T100000
DTEND;TZID=America/Halifax:20251005T130000
DTSTAMP:20260423T170115
CREATED:20250829T133520Z
LAST-MODIFIED:20250829T133520Z
UID:6434-1759658400-1759669200@shelbyssweetthings.com
SUMMARY:Harleysville Market
DESCRIPTION:Come Visit Our Food Truck!\nWhat we’ll have: \nChicken wings\, BBQ\, Pulled pork\, baked Mac/cheese\, FF\, collard greens\, potato salad\, cookies\, cakes\, brownies. \nAbout the Event\nHarleysville Market\nJoin us at the Harleysville Market on Sunday\, September 7th from 10AM – 1PM at the Harleysville Community Center (435 Park Ave\, Harleysville)! \n“Come shop local and discover an amazing variety of small businesses\, makers\, farmers\, and food vendors. You’ll find:\n🌿 Fresh produce & plants\n🍯 Local honey & baked goods\n🛍️ Handmade crafts & gifts\n🎶 Live music & community vibes\n🍴 Food trucks & drinks \nBring your family\, friends\, and neighbors for a morning full of shopping\, great eats\, and even better vibes.”
URL:https://shelbyssweetthings.com/events/harleysville-market-2/
LOCATION:Harleysville Community Pool\, 435 Park Avenue\, Harleysville\, PA\, 19438
END:VEVENT
BEGIN:VEVENT
DTSTART;TZID=America/Halifax:20250928T100000
DTEND;TZID=America/Halifax:20250928T150000
DTSTAMP:20260423T170115
CREATED:20250926T183853Z
LAST-MODIFIED:20250928T125012Z
UID:6454-1759053600-1759071600@shelbyssweetthings.com
SUMMARY:Food Truck Event
DESCRIPTION:Come visit us at Spirit Gymnastics!  We’ll have our normal Food Truck yummies from our famous BBQ to desserts!
URL:https://shelbyssweetthings.com/events/food-truck-event-3/
LOCATION:Spirit Gymnastics\, 1180 Church Road\, Lansdale\, PA
END:VEVENT
BEGIN:VEVENT
DTSTART;TZID=America/Halifax:20250927T100000
DTEND;TZID=America/Halifax:20250927T170000
DTSTAMP:20260423T170115
CREATED:20250829T134602Z
LAST-MODIFIED:20250917T144331Z
UID:6444-1758967200-1758992400@shelbyssweetthings.com
SUMMARY:Souderton Connect Art Jam - EVENT CANCELED
DESCRIPTION:Come Visit Our Food Truck!\nWhat we’ll have: \nChicken wings\, BBQ\, Pulled pork\, baked Mac/cheese\, FF\, collard greens\, potato salad\, cookies\, cakes\, brownies. \n  \nAbout the Event\n“Souderton Art Jam is an annual street festival that celebrates art\, food\, music\, creativity and community. Art Jam aims to showcase the talent of local artists and makers by providing a platform to display and sell their work while creating an enjoyable experience for visitors of all ages. \nYou can expect to find a wide range of visual and functional creations at Art Jam\, including fine art\, crafts and locally-made foods. Artists and makers from many disciplines come together to exhibit their creations and offer them for purchase. It’s a fantastic opportunity to explore and appreciate the diverse artistic expressions within the community. \nArt Jam is free for the public to attend. Friendly\, leashed dogs are welcome.”
URL:https://shelbyssweetthings.com/events/souderton-connect-art-jam/
LOCATION:Souderton Connect Art Jam\, Wile Ave & Reliance Rd\, Souderton\, PA\, 18964
END:VEVENT
BEGIN:VEVENT
DTSTART;TZID=America/Halifax:20250913T163000
DTEND;TZID=America/Halifax:20250913T193000
DTSTAMP:20260423T170115
CREATED:20250910T153601Z
LAST-MODIFIED:20250910T153601Z
UID:6448-1757781000-1757791800@shelbyssweetthings.com
SUMMARY:Food Truck Night in Quakertown
DESCRIPTION:
URL:https://shelbyssweetthings.com/events/food-truck-night-in-quakertown/
LOCATION:Quakertown\, Broad Street\, Quakertown\, PA\, 18951
END:VEVENT
BEGIN:VEVENT
DTSTART;TZID=America/Halifax:20250913T100000
DTEND;TZID=America/Halifax:20250913T150000
DTSTAMP:20260423T170115
CREATED:20250829T133959Z
LAST-MODIFIED:20250829T133959Z
UID:6438-1757757600-1757775600@shelbyssweetthings.com
SUMMARY:Branch Creek Taphouse
DESCRIPTION:Come Visit Our Food Truck!\nWhat we’ll have: \nChicken wings\, BBQ\, Pulled pork\, baked Mac/cheese\, FF\, collard greens\, potato salad\, cookies\, cakes\, brownies. \n 
URL:https://shelbyssweetthings.com/events/branch-creek-taphouse/
LOCATION:Branch Creek Taphouse\, 30 W. Chestnut Street\, Souderton\, PA\, 18964
END:VEVENT
BEGIN:VEVENT
DTSTART;TZID=America/Halifax:20250907T100000
DTEND;TZID=America/Halifax:20250907T140000
DTSTAMP:20260423T170115
CREATED:20250829T133256Z
LAST-MODIFIED:20250829T133256Z
UID:6429-1757239200-1757253600@shelbyssweetthings.com
SUMMARY:Harleysville Market
DESCRIPTION:Come Visit Our Food Truck!\nWhat we’ll have: \nChicken wings\, BBQ\, Pulled pork\, baked Mac/cheese\, FF\, collard greens\, potato salad\, cookies\, cakes\, brownies. \nAbout the Event\nHarleysville Market\nJoin us at the Harleysville Market on Sunday\, September 7th from 10AM – 1PM at the Harleysville Community Center (435 Park Ave\, Harleysville)! \n“Come shop local and discover an amazing variety of small businesses\, makers\, farmers\, and food vendors. You’ll find:\n🌿 Fresh produce & plants\n🍯 Local honey & baked goods\n🛍️ Handmade crafts & gifts\n🎶 Live music & community vibes\n🍴 Food trucks & drinks \nBring your family\, friends\, and neighbors for a morning full of shopping\, great eats\, and even better vibes.”
URL:https://shelbyssweetthings.com/events/harleysville-market/
LOCATION:Harleysville Community Pool\, 435 Park Avenue\, Harleysville\, PA\, 19438
END:VEVENT
BEGIN:VEVENT
DTSTART;TZID=America/Halifax:20250607T100000
DTEND;TZID=America/Halifax:20250607T160000
DTSTAMP:20260423T170115
CREATED:20250418T161856Z
LAST-MODIFIED:20250418T161856Z
UID:6395-1749290400-1749312000@shelbyssweetthings.com
SUMMARY:Food Truck Event - Lansdale Day
DESCRIPTION:
URL:https://shelbyssweetthings.com/events/food-truck-event-lansdale-day/
LOCATION:Lansdale Day\, Main Street\, Lansdale\, PA
END:VEVENT
BEGIN:VEVENT
DTSTART;TZID=America/Halifax:20250517T100000
DTEND;TZID=America/Halifax:20250517T160000
DTSTAMP:20260423T170115
CREATED:20250418T161706Z
LAST-MODIFIED:20250418T161706Z
UID:6392-1747476000-1747497600@shelbyssweetthings.com
SUMMARY:Food Truck Event - Arts Alive
DESCRIPTION:
URL:https://shelbyssweetthings.com/events/food-truck-event-arts-alive/
LOCATION:Arts Alive Quakertown\, Broad Street\, Quakertown\, PA
END:VEVENT
BEGIN:VEVENT
DTSTART;TZID=America/Halifax:20250503T100000
DTEND;TZID=America/Halifax:20250503T160000
DTSTAMP:20260423T170115
CREATED:20250418T161455Z
LAST-MODIFIED:20250418T161455Z
UID:6390-1746266400-1746288000@shelbyssweetthings.com
SUMMARY:Food Truck Event!
DESCRIPTION:
URL:https://shelbyssweetthings.com/events/food-truck-event-2/
LOCATION:Springfield High School\, 1801 Papermill Road\, Erdenheim\, PA
END:VEVENT
BEGIN:VEVENT
DTSTART;TZID=America/Halifax:20250419T100000
DTEND;TZID=America/Halifax:20250419T150000
DTSTAMP:20260423T170115
CREATED:20250416T201119Z
LAST-MODIFIED:20250416T201119Z
UID:6387-1745056800-1745074800@shelbyssweetthings.com
SUMMARY:Food Truck - Pearl S. Buck
DESCRIPTION:
URL:https://shelbyssweetthings.com/events/food-truck-pearl-s-buck/
LOCATION:Pearl S. Buck International\, 520 Dublin Road\, Perkasie\, PA\, 18944\, United States
END:VEVENT
BEGIN:VEVENT
DTSTART;TZID=America/Halifax:20240907T120000
DTEND;TZID=America/Halifax:20240907T170000
DTSTAMP:20260423T170115
CREATED:20240325T202017Z
LAST-MODIFIED:20240325T202017Z
UID:6300-1725710400-1725728400@shelbyssweetthings.com
SUMMARY:Skippack Food Truck Festival 2024
DESCRIPTION:Skippack Food Truck Festival!
URL:https://shelbyssweetthings.com/events/skippack-food-truck-festival-2024-2/
LOCATION:Skippack Food Truck Festival\, 4059 Skippack Pike\, Skippack\, PA\, 19474
END:VEVENT
BEGIN:VEVENT
DTSTART;TZID=America/Halifax:20240719T180000
DTEND;TZID=America/Halifax:20240719T210000
DTSTAMP:20260423T170115
CREATED:20240318T204527Z
LAST-MODIFIED:20240318T204527Z
UID:6281-1721412000-1721422800@shelbyssweetthings.com
SUMMARY:Souderton Connects
DESCRIPTION:Come Visit us! \n  \n3rd Friday
URL:https://shelbyssweetthings.com/events/souderton-connects/
LOCATION:PA
END:VEVENT
BEGIN:VEVENT
DTSTART;TZID=America/Halifax:20240615T110000
DTEND;TZID=America/Halifax:20240615T160000
DTSTAMP:20260423T170115
CREATED:20240318T205705Z
LAST-MODIFIED:20240318T205705Z
UID:6286-1718449200-1718467200@shelbyssweetthings.com
SUMMARY:Juneteenth at Mercer Museum
DESCRIPTION:Juneteeth Celebration at Mercer Museum
URL:https://shelbyssweetthings.com/events/juneteenth-at-mercer-museum/
LOCATION:Mercer Museum\, 84 South Pine Street\, Doylestown\, PA
END:VEVENT
BEGIN:VEVENT
DTSTART;TZID=America/Halifax:20240608T120000
DTEND;TZID=America/Halifax:20240608T170000
DTSTAMP:20260423T170115
CREATED:20240325T201836Z
LAST-MODIFIED:20240325T201836Z
UID:6297-1717848000-1717866000@shelbyssweetthings.com
SUMMARY:Skippack Food Truck Festival 2024
DESCRIPTION:Skippack Village Food Truck Festival!
URL:https://shelbyssweetthings.com/events/skippack-food-truck-festival-2024/
LOCATION:Skippack  Food Truck Festival\, 4059 Skippack Pike\, Skippack\, PA\, 19474
END:VEVENT
BEGIN:VEVENT
DTSTART;TZID=America/Halifax:20240601T100000
DTEND;TZID=America/Halifax:20240601T160000
DTSTAMP:20260423T170115
CREATED:20240325T203329Z
LAST-MODIFIED:20240325T203329Z
UID:6308-1717236000-1717257600@shelbyssweetthings.com
SUMMARY:Lansdale Day 2024
DESCRIPTION:West Main Street\, Lansdale
URL:https://shelbyssweetthings.com/events/lansdale-day-2024/
LOCATION:PA
END:VEVENT
BEGIN:VEVENT
DTSTART;TZID=America/Halifax:20240518T100000
DTEND;TZID=America/Halifax:20240518T160000
DTSTAMP:20260423T170115
CREATED:20230920T185756Z
LAST-MODIFIED:20240325T202628Z
UID:6225-1716026400-1716048000@shelbyssweetthings.com
SUMMARY:Food Truck - Quakertown Arts Alive
DESCRIPTION:Downtown Quakertown!
URL:https://shelbyssweetthings.com/events/food-truck-quakertown-autumn-alive/
LOCATION:PA
END:VEVENT
BEGIN:VEVENT
DTSTART;TZID=America/Halifax:20240504T100000
DTEND;TZID=America/Halifax:20240504T160000
DTSTAMP:20260423T170115
CREATED:20240325T203116Z
LAST-MODIFIED:20240325T203116Z
UID:6289-1714816800-1714838400@shelbyssweetthings.com
SUMMARY:Food Truck - Craft Boutique at Moyer Farmhouse
DESCRIPTION:
URL:https://shelbyssweetthings.com/events/food-truck-craft-boutique-at-moyer-farmhouse/
LOCATION:Craft Boutique at Moyer Farmhouse\, 308 N. Main Street\, Chalfont\, PA\, 18914
END:VEVENT
BEGIN:VEVENT
DTSTART;TZID=America/Halifax:20240420T080000
DTEND;TZID=America/Halifax:20240420T130000
DTSTAMP:20260423T170115
CREATED:20240325T201530Z
LAST-MODIFIED:20240325T201530Z
UID:6294-1713600000-1713618000@shelbyssweetthings.com
SUMMARY:Community Yard Sale - Warminster
DESCRIPTION:Spring Yard Sale!
URL:https://shelbyssweetthings.com/events/community-yard-sale-warminster/
LOCATION:Warminster Community Park – Runway\, 1100 Veterans Way\, Warminster\, PA\, 18974
END:VEVENT
BEGIN:VEVENT
DTSTART;TZID=America/Halifax:20240406T100000
DTEND;TZID=America/Halifax:20240406T160000
DTSTAMP:20260423T170115
CREATED:20240325T202429Z
LAST-MODIFIED:20240325T202429Z
UID:6292-1712397600-1712419200@shelbyssweetthings.com
SUMMARY:Springfield High School
DESCRIPTION:
URL:https://shelbyssweetthings.com/events/springfield-high-school/
LOCATION:Springfield High School\, 1801 Papermill Road\, Erdenheim\, PA
END:VEVENT
BEGIN:VEVENT
DTSTART;TZID=America/Halifax:20231007T130000
DTEND;TZID=America/Halifax:20231007T160000
DTSTAMP:20260423T170115
CREATED:20230920T181531Z
LAST-MODIFIED:20230920T181531Z
UID:6222-1696683600-1696694400@shelbyssweetthings.com
SUMMARY:Food Truck - Bucks County Community College
DESCRIPTION:The ParUp Society
URL:https://shelbyssweetthings.com/events/food-truck-bucks-county-community-college/
LOCATION:Bucks County Community College\, 1 Hillendale Rd\, Perkasie\, PA\, 18944
END:VEVENT
BEGIN:VEVENT
DTSTART;TZID=America/Halifax:20230930T110000
DTEND;TZID=America/Halifax:20231001T190000
DTSTAMP:20260423T170115
CREATED:20230919T215513Z
LAST-MODIFIED:20230919T215513Z
UID:6211-1696071600-1696186800@shelbyssweetthings.com
SUMMARY:Food Truck - Franconia Township
DESCRIPTION:
URL:https://shelbyssweetthings.com/events/food-truck-franconia-township/
LOCATION:Franconia Township\, 671 Allentown Road\, Telford\, PA\, 18969
END:VEVENT
BEGIN:VEVENT
DTSTART;TZID=America/Halifax:20230917T110000
DTEND;TZID=America/Halifax:20230917T150000
DTSTAMP:20260423T170115
CREATED:20230919T214927Z
LAST-MODIFIED:20230920T180908Z
UID:6208-1694948400-1694962800@shelbyssweetthings.com
SUMMARY:Food Truck - Dublin Fire House
DESCRIPTION:Join us!
URL:https://shelbyssweetthings.com/events/food-truck/
LOCATION:Dublin Fire House\, 194 N Main St\, Dublin\, PA\, 18917
END:VEVENT
BEGIN:VEVENT
DTSTART;TZID=America/Halifax:20230811T120000
DTEND;TZID=America/Halifax:20230811T180000
DTSTAMP:20260423T170115
CREATED:20230809T022236Z
LAST-MODIFIED:20230809T022459Z
UID:6176-1691755200-1691776800@shelbyssweetthings.com
SUMMARY:Food Truck Event
DESCRIPTION:Menu:\nPlatters 1 meat 2 sides – $14.00\nFried fish – Beef barbecue – Chicken wings – Baked Macaroni N Cheese\nPotato Salad – String Beans w/turkey\nFried fish sandwich – $7.00\nFried wings – $7.00\nBeef barbecue sandwich – $7.00\nAll sides – $3.50\nWater – $1.00\nSoda – $1.00\nCoke\, Diet Coke\, Sprite\, Sprite Zero Sugar\, Diet Pepsi\, Pepsi\, Lemonade\nBaked goods\nCookies – $2.00\nChocolate chip – Peanut butter – Oatmeal raisin\nPoundcakes – $5.00\nSour cream – Peaches n Cream – Strawberry\nBrownies – $2.00\nPre-orders at 215-534-0327
URL:https://shelbyssweetthings.com/events/food-truck-event/
LOCATION:Hatfield Beverage\, 616 N. Broad Street\, Lansdale\, PA\, 19446
END:VEVENT
END:VCALENDAR