BEGIN:VCALENDAR
VERSION:2.0
PRODID:-//Shelbys Sweet Things - ECPv6.15.20//NONSGML v1.0//EN
CALSCALE:GREGORIAN
METHOD:PUBLISH
X-WR-CALNAME:Shelbys Sweet Things
X-ORIGINAL-URL:https://shelbyssweetthings.com
X-WR-CALDESC:Events for Shelbys Sweet Things
REFRESH-INTERVAL;VALUE=DURATION:PT1H
X-Robots-Tag:noindex
X-PUBLISHED-TTL:PT1H
BEGIN:VTIMEZONE
TZID:America/Halifax
BEGIN:DAYLIGHT
TZOFFSETFROM:-0400
TZOFFSETTO:-0300
TZNAME:ADT
DTSTART:20240310T060000
END:DAYLIGHT
BEGIN:STANDARD
TZOFFSETFROM:-0300
TZOFFSETTO:-0400
TZNAME:AST
DTSTART:20241103T050000
END:STANDARD
BEGIN:DAYLIGHT
TZOFFSETFROM:-0400
TZOFFSETTO:-0300
TZNAME:ADT
DTSTART:20250309T060000
END:DAYLIGHT
BEGIN:STANDARD
TZOFFSETFROM:-0300
TZOFFSETTO:-0400
TZNAME:AST
DTSTART:20251102T050000
END:STANDARD
BEGIN:DAYLIGHT
TZOFFSETFROM:-0400
TZOFFSETTO:-0300
TZNAME:ADT
DTSTART:20260308T060000
END:DAYLIGHT
BEGIN:STANDARD
TZOFFSETFROM:-0300
TZOFFSETTO:-0400
TZNAME:AST
DTSTART:20261101T050000
END:STANDARD
END:VTIMEZONE
BEGIN:VEVENT
DTSTART;TZID=America/Halifax:20251005T100000
DTEND;TZID=America/Halifax:20251005T130000
DTSTAMP:20260423T200133
CREATED:20250829T133520Z
LAST-MODIFIED:20250829T133520Z
UID:6434-1759658400-1759669200@shelbyssweetthings.com
SUMMARY:Harleysville Market
DESCRIPTION:Come Visit Our Food Truck!\nWhat we’ll have: \nChicken wings\, BBQ\, Pulled pork\, baked Mac/cheese\, FF\, collard greens\, potato salad\, cookies\, cakes\, brownies. \nAbout the Event\nHarleysville Market\nJoin us at the Harleysville Market on Sunday\, September 7th from 10AM – 1PM at the Harleysville Community Center (435 Park Ave\, Harleysville)! \n“Come shop local and discover an amazing variety of small businesses\, makers\, farmers\, and food vendors. You’ll find:\n🌿 Fresh produce & plants\n🍯 Local honey & baked goods\n🛍️ Handmade crafts & gifts\n🎶 Live music & community vibes\n🍴 Food trucks & drinks \nBring your family\, friends\, and neighbors for a morning full of shopping\, great eats\, and even better vibes.”
URL:https://shelbyssweetthings.com/events/harleysville-market-2/
LOCATION:Harleysville Community Pool\, 435 Park Avenue\, Harleysville\, PA\, 19438
END:VEVENT
BEGIN:VEVENT
DTSTART;TZID=America/Halifax:20251018T100000
DTEND;TZID=America/Halifax:20251018T160000
DTSTAMP:20260423T200133
CREATED:20250829T134308Z
LAST-MODIFIED:20250829T134308Z
UID:6441-1760781600-1760803200@shelbyssweetthings.com
SUMMARY:Autumn Alive
DESCRIPTION:Come Visit Our Food Truck!\nWhat we’ll have: \nChicken wings\, BBQ\, Pulled pork\, baked Mac/cheese\, FF\, collard greens\, potato salad\, cookies\, cakes\, brownies. \n  \nAbout the Event\n“The Autumn Alive! Fall Festival focuses on fun and our furry friends. The Broad Street Pet Parade is always a family favorite. Along with crafters and businesses\, pet rescue organizations line Broad Street from 4th Street to Hellertown Avenue and down Branch Street. There are plenty of family fun to enjoy children’s activities\, live music\, cupcake contests\, Food Court\, Authors Corner\, and guests 21 years and older enjoy samples of beer\, spirits\, and wine in the Beer Garden on East Broad Street. People dress up their pet in this Halloween best for our annual Pet Parade!”
URL:https://shelbyssweetthings.com/events/autumn-alive/
LOCATION:Broad Street\, Quakertown\, Broad Street\, Quakertown\, PA\, 18951
END:VEVENT
END:VCALENDAR